BEGIN:VCALENDAR
VERSION:2.0
PRODID:-//Kolpingsfamilie Dingolfing - ECPv6.15.20//NONSGML v1.0//EN
CALSCALE:GREGORIAN
METHOD:PUBLISH
X-WR-CALNAME:Kolpingsfamilie Dingolfing
X-ORIGINAL-URL:https://kolpingdgf.de
X-WR-CALDESC:Veranstaltungen für Kolpingsfamilie Dingolfing
REFRESH-INTERVAL;VALUE=DURATION:PT1H
X-Robots-Tag:noindex
X-PUBLISHED-TTL:PT1H
BEGIN:VTIMEZONE
TZID:Europe/Berlin
BEGIN:DAYLIGHT
TZOFFSETFROM:+0100
TZOFFSETTO:+0200
TZNAME:CEST
DTSTART:20250330T010000
END:DAYLIGHT
BEGIN:STANDARD
TZOFFSETFROM:+0200
TZOFFSETTO:+0100
TZNAME:CET
DTSTART:20251026T010000
END:STANDARD
BEGIN:DAYLIGHT
TZOFFSETFROM:+0100
TZOFFSETTO:+0200
TZNAME:CEST
DTSTART:20260329T010000
END:DAYLIGHT
BEGIN:STANDARD
TZOFFSETFROM:+0200
TZOFFSETTO:+0100
TZNAME:CET
DTSTART:20261025T010000
END:STANDARD
BEGIN:DAYLIGHT
TZOFFSETFROM:+0100
TZOFFSETTO:+0200
TZNAME:CEST
DTSTART:20270328T010000
END:DAYLIGHT
BEGIN:STANDARD
TZOFFSETFROM:+0200
TZOFFSETTO:+0100
TZNAME:CET
DTSTART:20271031T010000
END:STANDARD
END:VTIMEZONE
BEGIN:VEVENT
DTSTART;TZID=Europe/Berlin:20260424T190000
DTEND;TZID=Europe/Berlin:20260424T220000
DTSTAMP:20260423T154026
CREATED:20251209T200808Z
LAST-MODIFIED:20251209T200808Z
UID:965-1777057200-1777068000@kolpingdgf.de
SUMMARY:Generalversammlung
DESCRIPTION:
URL:https://kolpingdgf.de/termin/generalversammlung-2/
LOCATION:Kolpinghaus Dingolfing\, Obere Stadt 70/72\, Dingolfing\, 84130
CATEGORIES:intern
END:VEVENT
BEGIN:VEVENT
DTSTART;TZID=Europe/Berlin:20260425T140000
DTEND;TZID=Europe/Berlin:20260425T170000
DTSTAMP:20260423T154026
CREATED:20251209T205850Z
LAST-MODIFIED:20251209T205850Z
UID:1002-1777125600-1777136400@kolpingdgf.de
SUMMARY:Jugendstunde: Keramik bemalen
DESCRIPTION:für alle Interessierten im Alter von 12 – 15 \nAnmeldung bis 12.4.\nper E-Mail an jugend@kolpingdgf.de\,\nper Instagram (DM)\noder telefonisch (Severin Prenitzer\, 0176 97525401)
URL:https://kolpingdgf.de/termin/jugendstunde-keramik-bemalen/
LOCATION:Kolpinghaus Dingolfing\, Obere Stadt 70/72\, Dingolfing\, 84130
CATEGORIES:Jugendstunde,Kolpingjugend
END:VEVENT
BEGIN:VEVENT
DTSTART;TZID=Europe/Berlin:20260430T160000
DTEND;TZID=Europe/Berlin:20260430T200000
DTSTAMP:20260423T154026
CREATED:20251209T201018Z
LAST-MODIFIED:20260404T115211Z
UID:967-1777564800-1777579200@kolpingdgf.de
SUMMARY:Maibaumaufstellen & Maifest
DESCRIPTION:
URL:https://kolpingdgf.de/termin/maibaumaufstellen-maifest/
LOCATION:Obere Stadt\, Obere Stadt\, Dingolfing\, 84130
CATEGORIES:Brauchtum,Kolpingjugend
END:VEVENT
BEGIN:VEVENT
DTSTART;TZID=Europe/Berlin:20260507T150000
DTEND;TZID=Europe/Berlin:20260507T170000
DTSTAMP:20260423T154026
CREATED:20251209T202436Z
LAST-MODIFIED:20251209T202436Z
UID:984-1778166000-1778173200@kolpingdgf.de
SUMMARY:Seniorentreff
DESCRIPTION:
URL:https://kolpingdgf.de/termin/seniorentreff-28/
LOCATION:Kolpinghaus Dingolfing\, Obere Stadt 70/72\, Dingolfing\, 84130
CATEGORIES:Senioren
END:VEVENT
BEGIN:VEVENT
DTSTART;TZID=Europe/Berlin:20260508T170000
DTEND;TZID=Europe/Berlin:20260510T130000
DTSTAMP:20260423T154026
CREATED:20260223T174531Z
LAST-MODIFIED:20260223T174531Z
UID:1114-1778259600-1778418000@kolpingdgf.de
SUMMARY:Diözesankonferenz der Kolpingjugend
DESCRIPTION:Das Treffen aller Kolpingjugenden im Diözesanverband und der damit verbundene Austausch ist für uns eine der wichtigsten Veranstaltungen im Jahr. Wie jedes Jahr findet auf bei dem Event auch unsere Diözesanjugendkonferenz – kurz DIKO – statt. \nAlle Jugendlichen aus den Kolpingjugenden und Kolpingsfamilien sind herzlich zu diesem Wochenende eingeladen. \nDie Veranstaltung hat jedes Jahr ein aktuelles und spannendes Thema zum Motto. Gemeinsam beleuchten wir dieses aktiv und abwechslungsreich aus verschiedenen Blickwinkeln. Zudem schauen wir zusammen auf das letzte Programmjahr zurück. Hier habt ihr auch die Möglichkeit\, neue Anregungen einzubringen und Vorschläge zu machen. Wenn ein Amt der Diözesanleitung besetzt werden muss\, wird bei der Diözesankonferenz der Kandidat von euch gewählt. Auch wichtige Entscheidungen für die kommende Arbeit werden mit euch in diesen Tagen getroffen und abgestimmt. \nBei der abendlichen Mottoparty und den gemeinsamen Aktivitäten lernt ihr schnell die anderen Jugendlichen und jungen Erwachsenen aus den verschiedenen Kolpingjugenden kennen und erlebt gemeinsam mit uns ein spaßiges Wochenende. Wir freuen uns auf euch!
URL:https://kolpingdgf.de/termin/dioezesankonferenz-der-kolpingjugend-4/
LOCATION:Jugendbildungsstätte Waldmünchen\, Schloßhof 1\, Waldmünchen\, 93449
CATEGORIES:Diözesanverband,intern,Kolpingjugend
END:VEVENT
BEGIN:VEVENT
DTSTART;TZID=Europe/Berlin:20260509T100000
DTEND;TZID=Europe/Berlin:20260509T160000
DTSTAMP:20260423T154026
CREATED:20251209T201305Z
LAST-MODIFIED:20251209T201305Z
UID:969-1778320800-1778342400@kolpingdgf.de
SUMMARY:Kegelturnier
DESCRIPTION:Siegerehrung um 18 Uhr
URL:https://kolpingdgf.de/termin/kegelturnier-2/
LOCATION:Kolpinghaus Dingolfing\, Obere Stadt 70/72\, Dingolfing\, 84130
END:VEVENT
BEGIN:VEVENT
DTSTART;TZID=Europe/Berlin:20260514T000000
DTEND;TZID=Europe/Berlin:20260517T235959
DTSTAMP:20260423T154026
CREATED:20251209T201453Z
LAST-MODIFIED:20251209T201453Z
UID:971-1778716800-1779062399@kolpingdgf.de
SUMMARY:Zeltlager der Kolpingjugend
DESCRIPTION:
URL:https://kolpingdgf.de/termin/zeltlager-der-kolpingjugend-2/
LOCATION:Jugendzeltplatz Mamming\, Am Sportplatz 8\, Mamming\, 94437
CATEGORIES:intern,Kolpingjugend
END:VEVENT
BEGIN:VEVENT
DTSTART;TZID=Europe/Berlin:20260523T140000
DTEND;TZID=Europe/Berlin:20260523T180000
DTSTAMP:20260423T154026
CREATED:20251209T210117Z
LAST-MODIFIED:20251209T210117Z
UID:1004-1779544800-1779559200@kolpingdgf.de
SUMMARY:Jugendstunde: Spieleolympiade
DESCRIPTION:für alle Interessierten im Alter von 12 – 15 \nAnmeldung bis 17.5.\nper E-Mail an jugend@kolpingdgf.de\,\nper Instagram (DM)\noder telefonisch (Severin Prenitzer\, 0176 97525401)
URL:https://kolpingdgf.de/termin/jugendstunde-spieleolympiade/
LOCATION:Isarwald-Stadion\, Stadionstraße 50\, Dingolfing\, 84130
CATEGORIES:Jugendstunde,Kolpingjugend
END:VEVENT
BEGIN:VEVENT
DTSTART;TZID=Europe/Berlin:20260611T000000
DTEND;TZID=Europe/Berlin:20260614T235959
DTSTAMP:20260423T154026
CREATED:20251231T143512Z
LAST-MODIFIED:20251231T143512Z
UID:1024-1781136000-1781481599@kolpingdgf.de
SUMMARY:Ausflug nach Südtirol/Haidenbergalm
DESCRIPTION:
URL:https://kolpingdgf.de/termin/ausflug-nach-suedtirol-haidenbergalm/
LOCATION:Haidenbergalm\, Almhof Haidenberg\, St. Lorenzen\, Südtirol\, 39030\, Italy
END:VEVENT
BEGIN:VEVENT
DTSTART;TZID=Europe/Berlin:20260611T150000
DTEND;TZID=Europe/Berlin:20260611T170000
DTSTAMP:20260423T154026
CREATED:20251209T202513Z
LAST-MODIFIED:20251209T202513Z
UID:986-1781190000-1781197200@kolpingdgf.de
SUMMARY:Seniorentreff
DESCRIPTION:
URL:https://kolpingdgf.de/termin/seniorentreff-29/
LOCATION:Kolpinghaus Dingolfing\, Obere Stadt 70/72\, Dingolfing\, 84130
CATEGORIES:Senioren
END:VEVENT
BEGIN:VEVENT
DTSTART;TZID=Europe/Berlin:20260620T140000
DTEND;TZID=Europe/Berlin:20260620T180000
DTSTAMP:20260423T154026
CREATED:20251209T210408Z
LAST-MODIFIED:20251209T210513Z
UID:1007-1781964000-1781978400@kolpingdgf.de
SUMMARY:Jugendstunde: Fahrradtour & Picknick
DESCRIPTION:für alle Interessierten im Alter von 12 – 15\ngemeinsame Abfahrt um 14 Uhr vom Kolpinghaus\nAbholung spätestens 18 Uhr im Kolpinghaus \nAnmeldung bis 14.6.\nper E-Mail an jugend@kolpingdgf.de\,\nper Instagram (DM)\noder telefonisch (Severin Prenitzer\, 0176 97525401)
URL:https://kolpingdgf.de/termin/jugendstunde-fahrradtour-picknick/
LOCATION:Mossandlweiher\, Tödinger Straße\, Mamming\, 94437
CATEGORIES:Jugendstunde,Kolpingjugend
END:VEVENT
BEGIN:VEVENT
DTSTART;TZID=Europe/Berlin:20260702T150000
DTEND;TZID=Europe/Berlin:20260702T170000
DTSTAMP:20260423T154026
CREATED:20251209T202549Z
LAST-MODIFIED:20251209T202549Z
UID:988-1783004400-1783011600@kolpingdgf.de
SUMMARY:Seniorentreff
DESCRIPTION:
URL:https://kolpingdgf.de/termin/seniorentreff-30/
LOCATION:Kolpinghaus Dingolfing\, Obere Stadt 70/72\, Dingolfing\, 84130
CATEGORIES:Senioren
END:VEVENT
BEGIN:VEVENT
DTSTART;TZID=Europe/Berlin:20260712T000000
DTEND;TZID=Europe/Berlin:20260712T235959
DTSTAMP:20260423T154026
CREATED:20251231T144451Z
LAST-MODIFIED:20251231T144451Z
UID:1028-1783814400-1783900799@kolpingdgf.de
SUMMARY:Wallfahrt zum Wallberg
DESCRIPTION:
URL:https://kolpingdgf.de/termin/wallfahrt-zum-wallberg/
LOCATION:Kapelle Heilig Kreuz\, Rottach-Egern\, 83700
CATEGORIES:extern,Kirche,Überregionales
END:VEVENT
BEGIN:VEVENT
DTSTART;TZID=Europe/Berlin:20260724T000000
DTEND;TZID=Europe/Berlin:20260726T235959
DTSTAMP:20260423T154026
CREATED:20251209T201655Z
LAST-MODIFIED:20251209T201655Z
UID:973-1784851200-1785110399@kolpingdgf.de
SUMMARY:Familienfahrt nach Lambach
DESCRIPTION:Für alle von 0 – 101 Jahre\nAnmeldung ab sofort bei Firma Wild: 08731 2501
URL:https://kolpingdgf.de/termin/familienfahrt-nach-lambach-3/
LOCATION:Kolping Haus Bayerischer Wald\, Lambach 1\, Lam\, 93462
END:VEVENT
BEGIN:VEVENT
DTSTART;TZID=Europe/Berlin:20260814T150000
DTEND;TZID=Europe/Berlin:20260814T190000
DTSTAMP:20260423T154026
CREATED:20260404T111440Z
LAST-MODIFIED:20260404T111536Z
UID:1143-1786719600-1786734000@kolpingdgf.de
SUMMARY:Ferienprogramm Kirchturmbesteigung St. Johannes
DESCRIPTION:Verbringt einen Nachmittag mit der Kolpingjugend Dingolfing. Gemeinsam werden wir mit Euch den Kirchturm des Münsters St. Johannes erklimmen und Euch hierbei interessante Fakten rund um die Kirche erzählen. \nAls Highlight haben wir einen echten Pizzaofen organisiert\, in welchem dann ihr dann Eure eigene Pizza backen könnt. \nEs wird auf jeden Fall nicht langweilig\, denn für Spaß und Unterhaltung ist bestens gesorgt. Wir freuen uns\, wenn Du auch dabei bist! \nFür Kinder & Jugendliche von 10 – 17 Jahren. Anmeldung ab 22.6. über das Ferienprogramm der Stadt Dingolfing: https://www.unser-ferienprogramm.de/dingolfing/anmeldung.php
URL:https://kolpingdgf.de/termin/ferienprogramm-kirchturmbesteigung-st-johannes-3/
LOCATION:Münster St. Johannes\, Pfarrplatz 12\, Dingolfing\, 84130
CATEGORIES:Kirche,Kolpingjugend
END:VEVENT
BEGIN:VEVENT
DTSTART;TZID=Europe/Berlin:20260919T000000
DTEND;TZID=Europe/Berlin:20260919T235959
DTSTAMP:20260423T154026
CREATED:20260312T105522Z
LAST-MODIFIED:20260312T105724Z
UID:1134-1789776000-1789862399@kolpingdgf.de
SUMMARY:Fahrt zum Knödelfest
DESCRIPTION:Der Kolpingjugend-Bezirksverband lädt alle jungen Kolpingmitglieder und Interessierten ab 16 Jahren aus dem Bezirk Dingolfing zu einer gemeinsamen Fahrt zum Knödelfest in St. Johann in Tirol ein. Zur Anmeldung bitte bis zum 30.3. der WhatsApp-Gruppe beitreten: https://chat.whatsapp.com/DR5A9o9XElh8kxsUy9h2vK
URL:https://kolpingdgf.de/termin/fahrt-zum-knoedelfest/
CATEGORIES:Bezirksverband,Brauchtum,Kolpingjugend
END:VEVENT
BEGIN:VEVENT
DTSTART;TZID=Europe/Berlin:20261003T000000
DTEND;TZID=Europe/Berlin:20261003T235959
DTSTAMP:20260423T154026
CREATED:20251231T145359Z
LAST-MODIFIED:20251231T145359Z
UID:1033-1790985600-1791071999@kolpingdgf.de
SUMMARY:Landeswallfahrt
DESCRIPTION:
URL:https://kolpingdgf.de/termin/landeswallfahrt/
LOCATION:Freisinger Dom\, Domberg 36\, Freising\, 85354
CATEGORIES:extern,Kirche,Überregionales
END:VEVENT
BEGIN:VEVENT
DTSTART;TZID=Europe/Berlin:20261107T210000
DTEND;TZID=Europe/Berlin:20261108T030000
DTSTAMP:20260423T154026
CREATED:20260223T173851Z
LAST-MODIFIED:20260223T173921Z
UID:1112-1794085200-1794106800@kolpingdgf.de
SUMMARY:10. Saalparty der Kolpingjugend
DESCRIPTION:
URL:https://kolpingdgf.de/termin/10-saalparty-der-kolpingjugend/
LOCATION:Kolpinghaus Dingolfing\, Obere Stadt 70/72\, Dingolfing\, 84130
CATEGORIES:Kolpingjugend
END:VEVENT
BEGIN:VEVENT
DTSTART;TZID=Europe/Berlin:20261114T000000
DTEND;TZID=Europe/Berlin:20261114T235959
DTSTAMP:20260423T154026
CREATED:20251231T144710Z
LAST-MODIFIED:20251231T144737Z
UID:1031-1794614400-1794700799@kolpingdgf.de
SUMMARY:Bezirksbegegnungstag
DESCRIPTION:in Massing
URL:https://kolpingdgf.de/termin/bezirksbegegnungstag-2/
CATEGORIES:Bezirksverband,Überregionales
END:VEVENT
BEGIN:VEVENT
DTSTART;TZID=Europe/Berlin:20261127T000000
DTEND;TZID=Europe/Berlin:20261201T235959
DTSTAMP:20260423T154026
CREATED:20260404T112915Z
LAST-MODIFIED:20260404T112915Z
UID:1147-1795737600-1796169599@kolpingdgf.de
SUMMARY:Stand am Nikolausmarkt
DESCRIPTION:Stand der Kolpingjugend am Dingolfinger Nikolausmarkt am Marienplatz \nFreitag bis Dienstag von 15 bis 21 Uhr (Ausnahmen: Freitag ab 17 Uhr\, Sonntag ab 12 Uhr)\nGlühwein\, Feuerzangenbowle\, Glüh-Gin\, Kinderpunsch\, Waffeln
URL:https://kolpingdgf.de/termin/stand-am-nikolausmarkt-3/
LOCATION:Marienplatz\, Dingolfing
CATEGORIES:Kolpingjugend
END:VEVENT
END:VCALENDAR